Workbook
Name docIssuerPartners: hidden!$A$2:$A$6
Name docIssuerPartnersRegNo: hidden!$A$2:$B$6
Name invoiceFlatRateSuh: hidden!$G$2
Name invoiceFlatRateTypes: hidden!$E$2:$E$2
Name projectActivities: hidden!$C$2:$C$6
Name projectContracts: hidden!$K$2:$K$4
Name projectPartners: hidden!$I$2:$I$3

Sheet main
A1: Kulusid tõendavate dokumentide üldine andmestik ja summad | O1: Dokumendi tegevuse üldine andmestik ja summad
A2: Kuludokumendi impordi tunnus | B2: Dokumendi liik | C2: Kulukandja (taotleja või partner) | D2: Tasumise kuupäev / Tegevuse toimumise perioodi lõppkuupäev (pp.kk.aaaa) | E2: Kulu tekkimise kuupäev / Eeldatav kulu tekkimise kuupäev (TEA) (pp.kk.aaaa) | F2: Dokumendi kuupäev (pp.kk.aaaa) (v.a SÜH) | G2: Dokumendi number (nimetus) (v.a SÜH) | H2: Dokumendi kogusumma (v.a SÜH) | I2: sh tasutud abikõlblik summa (v.a SÜH) | J2: Dokumendi maksetähtaeg (pp.kk.aaaa) (v.a SÜH) | K2: Dokumendi väljastaja (v.a SÜH) | L2: Dokumendi väljastaja registrikood (v.a SÜH) | M2: Hanke- või ostuleping (v.a SÜH) | N2: Taotleja kommentaar | O2: Projekti tegevuse tunnus ja nimetus | P2: Kulu selgitus | Q2: Abikõlblik summa käibemaksuta (v.a SÜH) | R2: Abikõlblik käibemaks (v.a SÜH) | S2: Abikõlblik summa kokku (v.a SÜH) | T2: Kaudne kulu 5% | U2: Kokku
B3: Kuludokument | I3: 0 | L3: =IF(ISNA(VLOOKUP(K3,docIssuerPartnersRegNo,2,FALSE)),"",VLOOKUP(K3,docIssuerPartnersRegNo,2,FALSE)) | R3: 0 | S3: =SUM(main!Q3:'main'!R3) -> 0 | T3: =ROUND(S3*5%,2) -> 0 | U3: =S3+T3 -> 0
B4: Kuludokument | I4: 0 | L4: =IF(ISNA(VLOOKUP(K4,docIssuerPartnersRegNo,2,FALSE)),"",VLOOKUP(K4,docIssuerPartnersRegNo,2,FALSE)) | R4: 0 | S4: =SUM(main!Q4:'main'!R4) -> 0 | T4: =ROUND(S4*5%,2) -> 0 | U4: =S4+T4 -> 0
B5: Kuludokument | I5: 0 | L5: =IF(ISNA(VLOOKUP(K5,docIssuerPartnersRegNo,2,FALSE)),"",VLOOKUP(K5,docIssuerPartnersRegNo,2,FALSE)) | R5: 0 | S5: =SUM(main!Q5:'main'!R5) -> 0 | T5: =ROUND(S5*5%,2) -> 0 | U5: =S5+T5 -> 0
B6: Kuludokument | I6: 0 | L6: =IF(ISNA(VLOOKUP(K6,docIssuerPartnersRegNo,2,FALSE)),"",VLOOKUP(K6,docIssuerPartnersRegNo,2,FALSE)) | R6: 0 | S6: =SUM(main!Q6:'main'!R6) -> 0 | T6: =ROUND(S6*5%,2) -> 0 | U6: =S6+T6 -> 0
B7: Kuludokument | I7: 0 | L7: =IF(ISNA(VLOOKUP(K7,docIssuerPartnersRegNo,2,FALSE)),"",VLOOKUP(K7,docIssuerPartnersRegNo,2,FALSE)) | R7: 0 | S7: =SUM(main!Q7:'main'!R7) -> 0 | T7: =ROUND(S7*5%,2) -> 0 | U7: =S7+T7 -> 0
B8: Kuludokument | I8: 0 | L8: =IF(ISNA(VLOOKUP(K8,docIssuerPartnersRegNo,2,FALSE)),"",VLOOKUP(K8,docIssuerPartnersRegNo,2,FALSE)) | R8: 0 | S8: =SUM(main!Q8:'main'!R8) -> 0 | T8: =ROUND(S8*5%,2) -> 0 | U8: =S8+T8 -> 0
B9: Kuludokument | I9: 0 | L9: =IF(ISNA(VLOOKUP(K9,docIssuerPartnersRegNo,2,FALSE)),"",VLOOKUP(K9,docIssuerPartnersRegNo,2,FALSE)) | R9: 0 | S9: =SUM(main!Q9:'main'!R9) -> 0 | T9: =ROUND(S9*5%,2) -> 0 | U9: =S9+T9 -> 0
B10: Kuludokument | I10: 0 | L10: =IF(ISNA(VLOOKUP(K10,docIssuerPartnersRegNo,2,FALSE)),"",VLOOKUP(K10,docIssuerPartnersRegNo,2,FALSE)) | R10: 0 | S10: =SUM(main!Q10:'main'!R10) -> 0 | T10: =ROUND(S10*5%,2) -> 0 | U10: =S10+T10 -> 0
B11: Kuludokument | I11: 0 | L11: =IF(ISNA(VLOOKUP(K11,docIssuerPartnersRegNo,2,FALSE)),"",VLOOKUP(K11,docIssuerPartnersRegNo,2,FALSE)) | R11: 0 | S11: =SUM(main!Q11:'main'!R11) -> 0 | T11: =ROUND(S11*5%,2) -> 0 | U11: =S11+T11 -> 0
B12: Kuludokument | I12: 0 | L12: =IF(ISNA(VLOOKUP(K12,docIssuerPartnersRegNo,2,FALSE)),"",VLOOKUP(K12,docIssuerPartnersRegNo,2,FALSE)) | R12: 0 | S12: =SUM(main!Q12:'main'!R12) -> 0 | T12: =ROUND(S12*5%,2) -> 0 | U12: =S12+T12 -> 0
B13: Kuludokument | I13: 0 | L13: =IF(ISNA(VLOOKUP(K13,docIssuerPartnersRegNo,2,FALSE)),"",VLOOKUP(K13,docIssuerPartnersRegNo,2,FALSE)) | R13: 0 | S13: =SUM(main!Q13:'main'!R13) -> 0 | T13: =ROUND(S13*5%,2) -> 0 | U13: =S13+T13 -> 0
B14: Kuludokument | I14: 0 | L14: =IF(ISNA(VLOOKUP(K14,docIssuerPartnersRegNo,2,FALSE)),"",VLOOKUP(K14,docIssuerPartnersRegNo,2,FALSE)) | R14: 0 | S14: =SUM(main!Q14:'main'!R14) -> 0 | T14: =ROUND(S14*5%,2) -> 0 | U14: =S14+T14 -> 0
... B21: Kuludokument | I21: 0 | L21: =IF(ISNA(VLOOKUP(K21,docIssuerPartnersRegNo,2,FALSE)),"",VLOOKUP(K21,docIssuerPartnersRegNo,2,FALSE)) | R21: 0 | S21: =SUM(main!Q21:'main'!R21) -> 0 | T21: =ROUND(S21*5%,2) -> 0 | U21: =S21+T21 -> 0
A22: Kokku: | H22: =SUM(main!H3:'main'!H21) -> 0 | I22: =SUM(main!I3:'main'!I21) -> 0 | Q22: =SUM(main!Q3:'main'!Q21) -> 0 | R22: =SUM(main!R3:'main'!R21) -> 0 | S22: =SUM(main!S3:'main'!S21) -> 0 | T22: =SUM(main!T3:'main'!T21) -> 0 | U22: =SUM(main!U3:'main'!U21) -> 0

Sheet hidden
A1: Dokumendi väljastaja | B1: Dokumendi väljastaja registrikood | C1: Projekti tegevuse tunnus ja nimetus | E1: Dokumendi liik | G1: Ühiku nimi ja hind | I1: Kulukandja (taotleja või partner) | K1: Hanke- või ostuleping | M1: Ühiku nimi | N1: Ühiku hind
C2: 10. Psühholoogiline tugi (AS HKT) | E2: Kuludokument | G2: Standardiseeritud ühikuhind | I2: AS HOOLEKANDETEENUSED (10399457) | K2: 244726 (1) - Hankeleping Qvalitas Arstikeskus AS (Meliva AS)
A3: AS HOOLEKANDETEENUSED (Partner) | B3: 10399457 | C3: 12. Projekti tegevuste kommunikatsioon (AS HKT) | I3: Sotsiaalkindlustusamet (70001975) | K3: 259465 (1-55) - Kütuse ostu-müügileping RH 259465 (Sotsiaalkindlustusamet, periood 10.07.2024-08.07.2025)_osa 1 (Circle K Eesti Aktsiaselts)
A4: Circle K Eesti Aktsiaselts (Töövõtja) | B4: 10180925 | C4: 5. Projekti juhtimine (SKA) | K4: Leping puudub
A5: Meliva AS (Töövõtja) | B5: 10303948 | C5: 6. Projekti sisuline koordineerimine (AS HKT)
A6: Sotsiaalkindlustusamet (Taotleja) | B6: 70001975 | C6: 7. Sotsiaaltöö ja vabaaja tegevused (AS HKT)
